BEGIN:VCALENDAR
VERSION:2.0
PRODID:-//IT.NRW//Ical
METHOD:PUBLISH
BEGIN:VEVENT
DTSTART:20261110T100000
DTEND:20261110T000000T170000
LOCATION:RheinEnergie Stadion, Aachener Straße 999, 50933 Köln
TRANSP:OPAQUE
SEQUENCE:0
UID:
DTSTAMP:20260426T041148
DESCRIPTION:Karrieretag Köln Quelle: © PantherMedia / Yuri Arcurs Karrieretag Köln Dein Einstieg bei der Justiz.NRW An unserem Stand erhältst du Informationen zu den Berufsbildern und zum Berufseinstieg im Justizvollzug, bei Gerichten und bei Staatsanwaltschaften der Justiz.NRW. Erfahre alles zum Bewerbungsverfahren. Bewerbungen sind sogar vor Ort möglich. www.karrieretag.org/koeln/ (https://www.karrieretag.org/koeln/) www.justiz-karriere.nrw/events (https://www.justiz-karriere.nrw/events)\r\nMehr erfahren: https://www.justiz.nrw.de/termine/2026-11-10
SUMMARY:Karrieretag Köln
CLASS:PUBLIC
END:VEVENT
END:VCALENDAR
