BEGIN:VCALENDAR
VERSION:2.0
PRODID:-//IT.NRW//Ical
METHOD:PUBLISH
BEGIN:VEVENT
DTSTART:20261121T100000
DTEND:20261121T000000T160000
LOCATION:Alte Federnfabrik, Böhlerstraße 1, 40667 Meerbuch
TRANSP:OPAQUE
SEQUENCE:0
UID:
DTSTAMP:20260426T055324
DESCRIPTION:Einstieg Düsseldorf Quelle: © PantherMedia / molesjuny (YAYMicro) Einstieg Düsseldorf Dein Einstieg bei der Justiz.NRW Am Stand der Justiz erhältst du Informationen über die Berufsbilder, das Bewerbungsverfahren und den Berufseinstieg im Justizvollzug, bei Gerichten und bei Staatsanwaltschaften der Justiz Nordrhein-Westfalen. Auch Bewerbungen sind vor Ort möglich.  Kontakt Für den Justizvollzug:  Joel Jung Tel.: +49211 93882-942 poststelle@jva-duesseldorf.nrw.de (mailto:poststelle@jva-duesseldorf.nrw.de)  Für die Gerichte und Staatsanwaltschaften:  Sina Binternagel+49211 4971-291 nachwuchsgewinnung@olg-duesseldorf.nrw.de (mailto:nachwuchsgewinnung@olg-duesseldorf.nrw.de)  www.einstieg.com/messen/duesseldorf.html (https://www.einstieg.com/messen/duesseldorf.html) www.justiz-karriere.nrw/ (https://www.justiz-karriere.nrw/)\r\nMehr erfahren: https://www.justiz.nrw.de/termine/2026-11-21
SUMMARY:Einstieg Düsseldorf
CLASS:PUBLIC
END:VEVENT
END:VCALENDAR
