BEGIN:VCALENDAR
VERSION:2.0
PRODID:-//IT.NRW//Ical
METHOD:PUBLISH
BEGIN:VEVENT
DTSTART:20261008T000000
DTEND:20261010T000000T000000
LOCATION:Kolping-Berufsbildungswerk Brakel, Tegelweg 33, 33034 Brakel
TRANSP:OPAQUE
SEQUENCE:0
UID:
DTSTAMP:20260426T055325
DESCRIPTION:STEP 1 Quelle: Justiz NRW STEP 1 Ausbildungsmesse im Kreis Höxter Dein Einstieg bei der Justiz.NRW Die Ausbildungsmesse STEP 1 bietet Schülerinnen, Schülern und Eltern der weiterführenden Schulen im Kreis Höxter eine gute Gelegenheit, sich über den Einstieg in das Berufsleben zu informieren. Eine Vielzahl insbesondere regionaler Unternehmen, Behörden und Institutionen präsentieren mehr als 100 Ausbildungs- und Studienmöglichkeiten. Die Justiz ist auch in diesem Jahr auf der 3-tägigen Messe vertreten und stellt die Ausbildung zur/zum Justizfachangestellten und zum/zur Justizfachwirt/in sowie das duale Studium zur Diplom-Rechtspflegerin/zum Diplom-Rechtspfleger vor. Die Präsentation erfolgt in Zusammenarbeit der drei Ausbildungsgerichte im Gebiet des Kreises Höxter: den Amtsgerichten Brakel, Höxter und Warburg. Öffnungszeiten:Donnerstag von 08:30 Uhr bis 15:00 UhrFreitag von 08:30 bis 13:00 UhrSamstag von 10:00 Uhr bis 14:00 Uhr www.step1-hx.de/ (https://www.step1-hx.de/) www.justiz-karriere.nrw/ (https://www.justiz-karriere.nrw/)\r\nMehr erfahren: https://www.justiz.nrw.de/termine/2026-10-08
SUMMARY:STEP 1
CLASS:PUBLIC
END:VEVENT
END:VCALENDAR
