BEGIN:VCALENDAR
VERSION:2.0
PRODID:-//IT.NRW//Ical
METHOD:PUBLISH
BEGIN:VEVENT
DTSTART:20260313T150000
DTEND:20260313T000000T180000
LOCATION:Oberlandesgericht Hamm, Heßlerstr. 53, 59065 Hamm
TRANSP:OPAQUE
SEQUENCE:0
UID:
DTSTAMP:20260426T015700
DESCRIPTION:Karriere-Event zum Dualen Studium Quelle: Zoonar/EMIR KLEPO Karriere-Event zum Dualen Studium Dein Einstieg bei der Justiz.NRW Auf dem Karriere-Event wird das duale Studium der Rechtspflege vorgestellt.  Organisiert wird das Event von Mitarbeiter/-innen des Oberlandesgerichts Hamm.    www.olg-hamm.nrw.de/behoerde/beh_aktuelles/TM_2026_01_26_Karriere-Event/index.php (https://www.olg-hamm.nrw.de/behoerde/beh_aktuelles/TM_2026_01_26_Karriere-Event/index.php) www.justiz-karriere.nrw/ (https://www.justiz-karriere.nrw/)\r\nMehr erfahren: https://www.justiz.nrw.de/termine/2026-03-13-0
SUMMARY:Karriere-Event zum Dualen Studium
CLASS:PUBLIC
END:VEVENT
END:VCALENDAR
