BEGIN:VCALENDAR
VERSION:2.0
PRODID:-//IT.NRW//Ical
METHOD:PUBLISH
BEGIN:VEVENT
DTSTART:20260924T083000
DTEND:20260925T000000T144500
LOCATION:Messe und Congress Centrum Halle Münsterland, Albersloher Weg 32, 48155 Münster
TRANSP:OPAQUE
SEQUENCE:0
UID:
DTSTAMP:20260426T055324
DESCRIPTION:Vocatium Münster Quelle: Justiz NRW Vocatium Münster Dein Einstieg bei der Justiz.NRW Mitarbeiter/-innen des Landgerichts Münster sind mit einem eigenen Stand vor Ort und stellen die beiden Ausbildungsberufe Justizfachangestellte/-r und Justizfachwirt/-in sowie das duale Studium der Rechtspflege vor.  www.vocatium.de/messen/info/vocatium-muenster (https://www.vocatium.de/messen/info/vocatium-muenster) www.justiz-karriere.nrw/ (https://www.justiz-karriere.nrw/)\r\nMehr erfahren: https://www.justiz.nrw.de/termine/2026-09-24
SUMMARY:Vocatium Münster
CLASS:PUBLIC
END:VEVENT
END:VCALENDAR
