BEGIN:VCALENDAR
VERSION:2.0
PRODID:-//IT.NRW//Ical
METHOD:PUBLISH
BEGIN:VEVENT
DTSTART:20260602T083000
DTEND:20260603T000000T144500
LOCATION:Kaiser-Friedrich-Halle Mönchengladbach, Hohenzollernstraße 15, 41061 Mönchengladbach
TRANSP:OPAQUE
SEQUENCE:0
UID:
DTSTAMP:20260426T041149
DESCRIPTION:Vocatium Mönchengladbach Quelle: (c) PantherMedia / ArturVerkhovetskiy Vocatium Mönchengladbach Dein Einstieg bei der Justiz.NRW Besuche uns auf der Vocatium in Mönchengladbach und informiere Dich über eine Ausbildung zur/zum Justizfachangestellten, zur Justizfachwirtin/zum Justizfachwirt oder ein duales Studium der Diplom-Rechtspflege.  Du interessierst Dich für einen Quereinstieg? Dann komm gerne auf uns zu! Wir freuen uns auf Dich! www.vocatium.de/messen/info/vocatium-moenchengladbach (https://www.vocatium.de/messen/info/vocatium-moenchengladbach) www.justiz-karriere.nrw/ (https://www.justiz-karriere.nrw/)\r\nMehr erfahren: https://www.justiz.nrw.de/termine/2026-06-02
SUMMARY:Vocatium Mönchengladbach
CLASS:PUBLIC
END:VEVENT
END:VCALENDAR
