BEGIN:VCALENDAR
VERSION:2.0
PRODID:-//IT.NRW//Ical
METHOD:PUBLISH
BEGIN:VEVENT
DTSTART:20260519T090000
DTEND:20260519T000000T150000
LOCATION:Bluebox Hochschule Bochum, Am Hochschulcampus 1, 44801 Bochum
TRANSP:OPAQUE
SEQUENCE:0
UID:
DTSTAMP:20260426T021509
DESCRIPTION:Katapult-Messe Bochum Quelle: Red Braid Marketing GmbH Katapult-Messe Bochum Dein Einstieg bei der Justiz.NRW Besuche uns an unserem Stand auf der Katapult in Bochum, der Berufs- und Bildungsmesse über Ausbildungsberufe, Studienangebote und berufliche Neuorientierungen.  Hier erfährst du alles über Ausbildung und Studium sowie einen Quereinstieg bei der Justiz.NRW.  katapult-messe.de/bochum/ (https://katapult-messe.de/bochum/) www.justiz-karriere.nrw/ (https://www.justiz-karriere.nrw/)\r\nMehr erfahren: https://www.justiz.nrw.de/termine/2026-05-19-0
SUMMARY:Katapult-Messe Bochum
CLASS:PUBLIC
END:VEVENT
END:VCALENDAR
